BEGIN:VCALENDAR
VERSION:2.0
PRODID:-//Shore Point Distributing Company, Inc. - ECPv6.15.20//NONSGML v1.0//EN
CALSCALE:GREGORIAN
METHOD:PUBLISH
X-WR-CALNAME:Shore Point Distributing Company, Inc.
X-ORIGINAL-URL:https://shorepoint.com
X-WR-CALDESC:Events for Shore Point Distributing Company, Inc.
REFRESH-INTERVAL;VALUE=DURATION:PT1H
X-Robots-Tag:noindex
X-PUBLISHED-TTL:PT1H
BEGIN:VTIMEZONE
TZID:UTC
BEGIN:STANDARD
TZOFFSETFROM:+0000
TZOFFSETTO:+0000
TZNAME:UTC
DTSTART:20240101T000000
END:STANDARD
END:VTIMEZONE
BEGIN:VEVENT
DTSTART;TZID=UTC:20251101T120000
DTEND;TZID=UTC:20251101T210000
DTSTAMP:20260425T212552
CREATED:20251017T173126Z
LAST-MODIFIED:20251017T173434Z
UID:8469-1761998400-1762030800@shorepoint.com
SUMMARY:Beers on the Boards 2025
DESCRIPTION:Martell’s Tiki Bar will be hosting Point Pleasant Beach Chamber’s Annual Beers on the Boards on Saturday\, November 1\, 2025. The craft beer festival will feature many local breweries including some of your favorites!\nTickets include a full buffet and live entertainment! 2 Sessions to choose from as well as multiple ticketing options. \nGet tickets HERE
URL:https://shorepoint.com/event/beers-on-the-boards-2025/
LOCATION:Martell’s Tiki Bar\, 312 Boardwalk\, Point Pleasant Beach\, NJ\, 08742\, United States
END:VEVENT
END:VCALENDAR