BEGIN:VCALENDAR
VERSION:2.0
PRODID:-//Shore Point Distributing Company, Inc. - ECPv6.15.20//NONSGML v1.0//EN
CALSCALE:GREGORIAN
METHOD:PUBLISH
X-WR-CALNAME:Shore Point Distributing Company, Inc.
X-ORIGINAL-URL:https://shorepoint.com
X-WR-CALDESC:Events for Shore Point Distributing Company, Inc.
REFRESH-INTERVAL;VALUE=DURATION:PT1H
X-Robots-Tag:noindex
X-PUBLISHED-TTL:PT1H
BEGIN:VTIMEZONE
TZID:UTC
BEGIN:STANDARD
TZOFFSETFROM:+0000
TZOFFSETTO:+0000
TZNAME:UTC
DTSTART:20240101T000000
END:STANDARD
END:VTIMEZONE
BEGIN:VEVENT
DTSTART;TZID=UTC:20251025T200000
DTEND;TZID=UTC:20251025T233000
DTSTAMP:20260419T230731
CREATED:20251016T150535Z
LAST-MODIFIED:20251016T150535Z
UID:8460-1761422400-1761435000@shorepoint.com
SUMMARY:Halloween Party & Costume Contest
DESCRIPTION:Join Thunder 106 at Jenks Club in Pt. Pleasant (300 Ocean Avenue) for their annual Halloween Party and Costume Contest starting at 8 PM! \nDress in your Halloween best and compete in their costume contest for $20\,000 in prizes while enjoying Miller Lite and Coors Light 16oz Aluminums! \nCategories include the Scariest and Most Original! Come out for a spooky night along with your chance to win awesome Thunder 106 prizes!
URL:https://shorepoint.com/event/halloween-party-costume-contest/
LOCATION:Jenk’s Club\, 300 Ocean Ave.\, Point Pleasant Beach\, NJ\, 08742\, United States
END:VEVENT
END:VCALENDAR