BEGIN:VCALENDAR
VERSION:2.0
PRODID:-//Shore Point Distributing Company, Inc. - ECPv6.15.20//NONSGML v1.0//EN
CALSCALE:GREGORIAN
METHOD:PUBLISH
X-WR-CALNAME:Shore Point Distributing Company, Inc.
X-ORIGINAL-URL:https://shorepoint.com
X-WR-CALDESC:Events for Shore Point Distributing Company, Inc.
REFRESH-INTERVAL;VALUE=DURATION:PT1H
X-Robots-Tag:noindex
X-PUBLISHED-TTL:PT1H
BEGIN:VTIMEZONE
TZID:UTC
BEGIN:STANDARD
TZOFFSETFROM:+0000
TZOFFSETTO:+0000
TZNAME:UTC
DTSTART:20240101T000000
END:STANDARD
END:VTIMEZONE
BEGIN:VEVENT
DTSTART;TZID=UTC:20250823T180000
DTEND;TZID=UTC:20250823T200000
DTSTAMP:20260421T023649
CREATED:20250806T202649Z
LAST-MODIFIED:20250806T202649Z
UID:8134-1755972000-1755979200@shorepoint.com
SUMMARY:Miller Lite Golden Can Final!
DESCRIPTION:Create your very own legendary story and be part of all the action with your shot at fifty thousand big ones… $50\,000! The Rat celebrates Miller Lite’s 50th Anniversary with our “50 Days of Summer”. That seems like a lot of words\, so let’s break it down for a moment: You could win $50\,000. Come out to Bar A and celebrate a big birthday\, and walk away with big bucks!
URL:https://shorepoint.com/event/miller-lite-golden-can-final/
LOCATION:Bar Anticipation\, 703 16th Ave.\, Belmar\, NJ\, 07719\, United States
END:VEVENT
END:VCALENDAR