BEGIN:VCALENDAR
VERSION:2.0
PRODID:-//Shore Point Distributing Company, Inc. - ECPv6.15.20//NONSGML v1.0//EN
CALSCALE:GREGORIAN
METHOD:PUBLISH
X-ORIGINAL-URL:https://shorepoint.com
X-WR-CALDESC:Events for Shore Point Distributing Company, Inc.
REFRESH-INTERVAL;VALUE=DURATION:PT1H
X-Robots-Tag:noindex
X-PUBLISHED-TTL:PT1H
BEGIN:VTIMEZONE
TZID:UTC
BEGIN:STANDARD
TZOFFSETFROM:+0000
TZOFFSETTO:+0000
TZNAME:UTC
DTSTART:20240101T000000
END:STANDARD
END:VTIMEZONE
BEGIN:VEVENT
DTSTART;VALUE=DATE:20250120
DTEND;VALUE=DATE:20250121
DTSTAMP:20260420T232047
CREATED:20241202T114914Z
LAST-MODIFIED:20241202T121903Z
UID:281-1737331200-1737417599@shorepoint.com
SUMMARY:"The Quelle's" 20th Anniversary
DESCRIPTION:
URL:https://shorepoint.com/event/the-quelles-20th-anniversary/
LOCATION:NJ
END:VEVENT
END:VCALENDAR