BEGIN:VCALENDAR
VERSION:2.0
PRODID:-//Shore Point Distributing Company, Inc. - ECPv6.15.20//NONSGML v1.0//EN
CALSCALE:GREGORIAN
METHOD:PUBLISH
X-ORIGINAL-URL:https://shorepoint.com
X-WR-CALDESC:Events for Shore Point Distributing Company, Inc.
REFRESH-INTERVAL;VALUE=DURATION:PT1H
X-Robots-Tag:noindex
X-PUBLISHED-TTL:PT1H
BEGIN:VTIMEZONE
TZID:UTC
BEGIN:STANDARD
TZOFFSETFROM:+0000
TZOFFSETTO:+0000
TZNAME:UTC
DTSTART:20240101T000000
END:STANDARD
END:VTIMEZONE
BEGIN:VEVENT
DTSTART;VALUE=DATE:20250116
DTEND;VALUE=DATE:20250117
DTSTAMP:20260420T152041
CREATED:20250107T210726Z
LAST-MODIFIED:20250107T210726Z
UID:7351-1736985600-1737071999@shorepoint.com
SUMMARY:Event 1
DESCRIPTION:Event 1 Example
URL:https://shorepoint.com/event/event-1/
LOCATION:Example 1\, 50 Broad Street\, Red Bank\, NJ\, 07701\, United States
END:VEVENT
END:VCALENDAR